BEGIN:VCALENDAR
VERSION:2.0
PRODID:-//wp-events-plugin.com//7.2.3.1//EN
BEGIN:VEVENT
UID:745@mnbeer.com
DTSTART:20140913T200000Z
DTEND:20140914T000000Z
DTSTAMP:20140711T031209Z
URL:https://www.mnbeer.com/events/harvest-moon-brew-fest/
SUMMARY:Harvest Moon Brew Fest
DESCRIPTION:The Glacial Lake Brewers\, a local brew club are hosting the Ha
 rvest Moon Brew Fest on Saturday\, September 13\, 2014 from 3-7pm. An outd
 oor rain or shine event in the parking lot of the Butler Building in Downt
 own Aitkin\, Minnesota.\n\nFeaturing Minnesota Craft beers\, Local home br
 ews\, Prairie Bay “Side Dish” Food Truck\, Log Home Wood Fired Pizza\,
  local crafters\,  live music and more.\n\nDetails will be posted on our F
 ace Book page as the become available: \nhttps://www.facebook.com/pages/Gl
 acial-Lakes-Brewers/336332696514000\n
CATEGORIES:Beer Festival
LOCATION:Butler Building \, 301 Minnesota Ave N\, Aitkin\, MN\, 56431\, Uni
 ted States
GEO:46.5344649;-93.70668080000002
X-APPLE-STRUCTURED-LOCATION;VALUE=URI;X-ADDRESS=301 Minnesota Ave N\, Aitki
 n\, MN\, 56431\, United States;X-APPLE-RADIUS=100;X-TITLE=Butler Building 
 :geo:46.5344649,-93.70668080000002
END:VEVENT
END:VCALENDAR