BEGIN:VCALENDAR
VERSION:2.0
PRODID:-//wp-events-plugin.com//7.2.3.1//EN
BEGIN:VEVENT
UID:1161@mnbeer.com
DTSTART:20150324T230000Z
DTEND:20150325T043000Z
DTSTAMP:20150318T052158Z
URL:https://www.mnbeer.com/events/haywire-release-at-republic-7-corners/
SUMMARY:Haywire Release at Republic 7 Corners
DESCRIPTION:Join us for at Republic 7 Corners as we release 2015’s HAYWIR
 E Double American Black Ale. \n\nPrepare for your palate to be victimized 
 by Haywire\, a Double American Black Ale brewed with 10-pounds of hops per
  barrel and a special process using hopped wort as mash water. Centennial\
 , Citra\, El Dorado\, and Sorachi Ace hops fill this beer with notes of ci
 trus\, and sappy pine\, while the malt brings hints of toffee\, coffee\, a
 nd cocoa.\n\nIn addition to the release of Haywire\, Republic will be serv
 ing up a special flight for the evening\, featuring Haywire\, Haywire Cask
 \, Midnight Ryder Nitro\, and Espresso Midnight Ryder. Republic is also ta
 pping Wooden Soul #1\, Mexican Honey\, Mexican Cousin\, Hot Box\, Let It R
 ide\, Day Tripper\, and our Derailed Series Bock.\n\nHaywire will be bottl
 ed and released to select liquor stores for off-sale starting on Tuesday\,
  March 24th\, and released in the Indeed Brewing taproom on the following 
 Wednesday\, March 25th\, where you can also buy 750 ml bottles. Haywire wi
 ll also be on draft at select bars and restaurants for a limited time. \n\
 nFor more information about Indeed Brewing Company\, visit indeedbrewing.c
 om.
ATTACH;FMTTYPE=image/jpeg:https://www.mnbeer.com/wp-content/uploads/haywir
 e-graphic.jpeg
CATEGORIES:Beer Release
LOCATION:Republic 7 Corners\, 221 Cedar Avenue\, Minneapolis\, MN\, 55454\,
  United States
GEO:44.9732935;-93.2467226
X-APPLE-STRUCTURED-LOCATION;VALUE=URI;X-ADDRESS=221 Cedar Avenue\, Minneapo
 lis\, MN\, 55454\, United States;X-APPLE-RADIUS=100;X-TITLE=Republic 7 Cor
 ners:geo:44.9732935,-93.2467226
END:VEVENT
END:VCALENDAR