BEGIN:VCALENDAR
VERSION:2.0
PRODID:-//wp-events-plugin.com//7.2.3.1//EN
BEGIN:VEVENT
UID:834@mnbeer.com
DTSTART:20141018T200000Z
DTEND:20141019T030000Z
DTSTAMP:20140916T005143Z
URL:https://www.mnbeer.com/events/heat-up-your-life/
SUMMARY:Heat Up Your Life
DESCRIPTION:Join us for the 1st annual "Heat Up Your Life Festival" with so
 me of the Twin Cities best purveyors of hot salsa\, sauce\, relish &amp\; 
 foods. And yes\, a Ghost Pepper Stout will be pouring. Come and get some h
 eat in your life!
CATEGORIES:Breweries
LOCATION:Bent Brewstillery\, 1744 Terrace Drive\, Roseville\, MN\, 55113\, 
 United States
GEO:45.0256835;-93.17472379999998
X-APPLE-STRUCTURED-LOCATION;VALUE=URI;X-ADDRESS=1744 Terrace Drive\, Rosevi
 lle\, MN\, 55113\, United States;X-APPLE-RADIUS=100;X-TITLE=Bent Brewstill
 ery:geo:45.0256835,-93.17472379999998
END:VEVENT
END:VCALENDAR