BEGIN:VCALENDAR
VERSION:2.0
PRODID:-//wp-events-plugin.com//7.2.3.1//EN
BEGIN:VEVENT
UID:1062@mnbeer.com
DTSTART:20150120T010000Z
DTEND:20150120T010000Z
DTSTAMP:20150116T214357Z
URL:https://www.mnbeer.com/events/heavy-metal-trivia-with-todd-haug/
SUMMARY:Heavy Metal Trivia with Todd Haug
DESCRIPTION:Join Surly's Todd Haug and Muddy Waters' Billy Morriesette for 
 Heavy Metal Trivia at Muddy Waters on Monday\, January 19th. As per usual\
 , expect plenty of Surly beers on tap\, music (Metal dj set from Tanner...
  8pm)\, trivia (8:30) and a screening of Heavy Metal Parking Lot (10pm). B
 e there.
ATTACH;FMTTYPE=image/jpeg:https://www.mnbeer.com/wp-content/uploads/Screen
 -shot-2015-01-16-at-3.34.09-PM.png
LOCATION:Muddy Waters\, 2933 Lyndale Avenue South\, Minneapolis\, MN\, Unit
 ed States
GEO:44.949222;-93.28766999999999
X-APPLE-STRUCTURED-LOCATION;VALUE=URI;X-ADDRESS=2933 Lyndale Avenue South\,
  Minneapolis\, MN\, United States;X-APPLE-RADIUS=100;X-TITLE=Muddy Waters:
 geo:44.949222,-93.28766999999999
END:VEVENT
END:VCALENDAR