BEGIN:VCALENDAR
VERSION:2.0
PRODID:-//wp-events-plugin.com//7.2.3.1//EN
BEGIN:VEVENT
UID:1013@mnbeer.com
DTSTART:20150119T230000Z
DTEND:20150119T230000Z
DTSTAMP:20150107T220039Z
URL:https://www.mnbeer.com/events/hibernation-inspiration/
SUMMARY:Hibernation Inspiration
DESCRIPTION:Curl up with a Fair State brew and listen to local makers talk 
 about how\nto use all that time in the cold\, dark\, Minnesota winter incu
 bating\nthe entrepreneurial spirit. Be inspired with ideas for how to harn
 ess\nyour Hibernation Inspiration and be part of the Minnesota Makers Move
 ment.\n*Monday\, January 19th at Fair State Brewing Cooperative*\n\n6pm - 
 Beer and networking\n7pm - Panel discussion from local entrepreneurs inclu
 ding WildEarthWoodFired Mobile Pizza Bakery\, Mill City Fineries\, Byrd &a
 mp\; Belle and more!\n8pm - Entrepreneurs and advisors will be on hand to 
 critique and collaborate on your ideas\n\n*RSVP at ticketing link.
CATEGORIES:Breweries
LOCATION:Fair State Brewing Co-op\, 2506 Central Avenue\, Minneapolis\, MN\
 , United States
GEO:45.0135573;-93.2477591
X-APPLE-STRUCTURED-LOCATION;VALUE=URI;X-ADDRESS=2506 Central Avenue\, Minne
 apolis\, MN\, United States;X-APPLE-RADIUS=100;X-TITLE=Fair State Brewing 
 Co-op:geo:45.0135573,-93.2477591
END:VEVENT
END:VCALENDAR