BEGIN:VCALENDAR
VERSION:2.0
PRODID:-//wp-events-plugin.com//7.2.3.1//EN
BEGIN:VEVENT
UID:1915@mnbeer.com
DTSTART:20160720T223000Z
DTEND:20160720T231500Z
DTSTAMP:20160716T174314Z
URL:https://www.mnbeer.com/events/high-intensity-happy-hour-workout-beer-l
 ake-monster-brewing/
SUMMARY:High Intensity Happy Hour – Workout + Beer @ Lake Monster Brewing
 !
DESCRIPTION:Round up your pals and coworkers for Workout Wednesday - HIHH o
 n July 20th! Lake Monster Brewing is hosting this 45-minute bodyweight exe
 rcise circuit class\, followed by a beverage of your choice.\nClass is out
 doors on the patio - $15 fee includes one post-workout tap beer.\n\nREGIST
 ER VIA EMAIL: edktrainingmn@gmail.com\n\nALL fitness levels\, workout and 
 beer enthusiasts welcome! Spread the word and extend the invitation - spac
 e is limited!\n\nCheers!\nEDK\n\nFacebook: https://www.facebook.com/EDKtra
 iningMN/
ATTACH;FMTTYPE=image/jpeg:https://www.mnbeer.com/wp-content/uploads/HIHH-0
 7.20.16-LMB_2.jpg
CATEGORIES:Breweries,Misc.
LOCATION:Lake Monster Brewing\, 550 Vandalia Street #160\, St. Paul \, MN\,
  55114\, United States
GEO:44.95774979999999;-93.19138659999999
X-APPLE-STRUCTURED-LOCATION;VALUE=URI;X-ADDRESS=550 Vandalia Street #160\, 
 St. Paul \, MN\, 55114\, United States;X-APPLE-RADIUS=100;X-TITLE=Lake Mon
 ster Brewing:geo:44.95774979999999,-93.19138659999999
END:VEVENT
END:VCALENDAR