BEGIN:VCALENDAR
VERSION:2.0
PRODID:-//wp-events-plugin.com//7.2.3.1//EN
BEGIN:VEVENT
UID:1863@mnbeer.com
DTSTART:20160708T200000Z
DTEND:20160710T230000Z
DTSTAMP:20160623T152138Z
URL:https://www.mnbeer.com/events/hopped-up-caribou-beer-festival-2/
SUMMARY:Hopped Up Caribou Beer Festival
DESCRIPTION:Beer lovers\, meet your makers...again!\n\nJoin homegrown brewi
 ng Heroes-handpicked for their mastery of the craft and bravery in the fac
 e of homogenization- on the mountain above Lake Superior for the sixth ann
 ual Hopped Up Caribou Beer Festival. Share Stories. Sample new recipes. An
 d save humanity from itself\, one glass at a time.\n\nWeekend Lodging Pack
 ages start at $150/Person.
ATTACH;FMTTYPE=image/jpeg:https://www.mnbeer.com/wp-content/uploads/hopped
 -up.jpg
CATEGORIES:Beer Festival
LOCATION:Caribou Highlands Lodge\, 371 Ski Hill Road\, Lutsen\, MN\, United
  States
GEO:47.6540236;-90.71271530000001
X-APPLE-STRUCTURED-LOCATION;VALUE=URI;X-ADDRESS=371 Ski Hill Road\, Lutsen\
 , MN\, United States;X-APPLE-RADIUS=100;X-TITLE=Caribou Highlands Lodge:ge
 o:47.6540236,-90.71271530000001
END:VEVENT
END:VCALENDAR