BEGIN:VCALENDAR
VERSION:2.0
PRODID:-//wp-events-plugin.com//7.2.3.1//EN
BEGIN:VEVENT
UID:3148@mnbeer.com
DTSTART;VALUE=DATE:20180713
DTEND;VALUE=DATE:20180716
DTSTAMP:20180425T140205Z
URL:https://www.mnbeer.com/events/hopped-up-caribou-beer-festival-3/
SUMMARY:Hopped Up Caribou Beer Festival
DESCRIPTION:This summer Caribou Highlands Lodge will be hosting the 8th Ann
 ual Hopped Up Caribou Beer Festival. \n\nThis is a 3-day craft beer celebr
 ation like no other including\; Vegas-Style weddings\, dog-friendly accomm
 odations\, adventure activities\, a beer pairing dinner\, outdoor concerts
 \, a big beautiful Beerfest breakfast\, and much more! The event takes pla
 ce Friday\, Saturday and Sunday - July 13\, 14 &amp\; 15\, 2018 in the hea
 rt of the Sawtooth Mountain range in legendary Lutsen\, Minnesota.
CATEGORIES:Beer Festival
LOCATION:Caribou Highlands Lodge\, 371 Ski Hill Road\, Lutsen\, MN\, United
  States
GEO:47.6540236;-90.71271530000001
X-APPLE-STRUCTURED-LOCATION;VALUE=URI;X-ADDRESS=371 Ski Hill Road\, Lutsen\
 , MN\, United States;X-APPLE-RADIUS=100;X-TITLE=Caribou Highlands Lodge:ge
 o:47.6540236,-90.71271530000001
END:VEVENT
END:VCALENDAR