BEGIN:VCALENDAR
VERSION:2.0
PRODID:-//wp-events-plugin.com//7.2.3.1//EN
BEGIN:VEVENT
UID:772@mnbeer.com
DTSTART:20140803T190000Z
DTEND:20140804T010000Z
DTSTAMP:20140730T170922Z
URL:https://www.mnbeer.com/events/in-cahoots-red-stag-block-party/
SUMMARY:In Cahoots - Red Stag Block Party
DESCRIPTION:The Growler\, in partnership with The Red Stag Supper Club\, 
 is hosting the Twin Cities’ first ever beer collaboration festival on Au
 gust 3rd in Northeast Minneapolis.\n\nIn Cahoots! A Collaboration of Craft
 ” adds a twist to Red Stag’s 8th Annual Block Party—a well-establish
 ed Northeast tradition—and pairs four teams of Minnesota breweries for t
 he occasion. Attendees can sample four specially made beers —there will 
 be at least 10 kegs of each\, so the well won’t run dry—from:\n\n	Augu
 st Schell and Sociable Cider Werks\n	Bang Brewing and Summit Brewing\n
 	Fulton Brewing and Dangerous Man Brewing\n	Bent Paddle Brewing and Fi
 tger’s Brewhouse\n\nThe collaboration beers themselves will be announced
  soon. Attendees can vote on their favorite collaboration throughout the d
 ay\, with the winner chosen at the end of the evening. The event is free 
 and open to the public. Each pair will set the price for its creation.\n\n
 If the promise of four bespoke beers isn’t enough to turn you out to In 
 Cahoots!\, an impressive musical lineup should do the trick. In addition
  to headliners Sonny Knight &amp\; The Lakers—yes\, that Sonny Knight &a
 mp\; The Lakers—there’ll be performances from:\n\n	E.L.nO.\n	Shiro Dam
 e\n	Frankie Lee\n	Alpha Consumer\n	MC Foxy Tann\n	Epitome No Question\n\nA
 nd just announced: Reg Stag\, already Minnesota’s first LEED-CI restaur
 ant\, is partnering with Eureka Recycling to make In Cahoots! a zero waste
  party. You can do your part by following any waste disposal directives at
  the event.
ATTACH;FMTTYPE=image/jpeg:https://www.mnbeer.com/wp-content/uploads/cahoot
 s.png
CATEGORIES:Beer Festival
LOCATION:Red Stag Supper Club\, 501 First Avenue NE\, Minneapolis\, MN\, Un
 ited States
GEO:44.99033190000001;-93.2541857
X-APPLE-STRUCTURED-LOCATION;VALUE=URI;X-ADDRESS=501 First Avenue NE\, Minne
 apolis\, MN\, United States;X-APPLE-RADIUS=100;X-TITLE=Red Stag Supper Clu
 b:geo:44.99033190000001,-93.2541857
END:VEVENT
END:VCALENDAR