BEGIN:VCALENDAR
VERSION:2.0
PRODID:-//wp-events-plugin.com//7.2.3.1//EN
BEGIN:VEVENT
UID:706@mnbeer.com
DTSTART:20140601T230000Z
DTEND:20140602T030000Z
DTSTAMP:20140521T212557Z
URL:https://www.mnbeer.com/events/indeed-brewing-beer-dinner/
SUMMARY:Indeed Brewing Beer Dinner
DESCRIPTION:Join the folks from Indeed Brewing and Chef Ian Gray for a 5 co
 urse Beer Dinner paired with 5 Indeed Brews. Featuring a Gray House infuse
 d Shenanigans Summer Wheat and LSD Honey Ale brewed with lavender\, sunflo
 wer honey\, and dates. \n\n$45 per person. Doors open 5pm\, Dinner begins 
 at 6pm. \nSpots are limited. Make your reservation by contacting the resta
 urant at 612-823-4338/thegrayhouse.info@gmail.com
CATEGORIES:Beer Dinner
LOCATION:The Gray House\, 610 West Lake St\, Minneapolis\, MN\, 55408\, Uni
 ted States
GEO:44.948499;-93.2875656
X-APPLE-STRUCTURED-LOCATION;VALUE=URI;X-ADDRESS=610 West Lake St\, Minneapo
 lis\, MN\, 55408\, United States;X-APPLE-RADIUS=100;X-TITLE=The Gray House
 :geo:44.948499,-93.2875656
END:VEVENT
END:VCALENDAR