BEGIN:VCALENDAR
VERSION:2.0
PRODID:-//wp-events-plugin.com//7.2.3.1//EN
BEGIN:VEVENT
UID:991@mnbeer.com
DTSTART:20141220T000000Z
DTEND:20141220T040000Z
DTSTAMP:20141211T225611Z
URL:https://www.mnbeer.com/events/indeed-on-ice/
SUMMARY:Indeed On Ice
DESCRIPTION:Don’t let winter keep you cooped! Seize the freeze and join u
 s at The Depot Ice Rink for Indeed on Ice\, a Stir Crazy Skate Party!\n\nI
 t’s going down Friday December 19th with very special guest DJ Shannon B
 lowtorch spinning the records to keep you cruising while our Stir Crazy W
 inter Ale warms you from the inside out.\n\nBundle up\, bring your friends
 \, and meet us at the rink!
ATTACH;FMTTYPE=image/jpeg:https://www.mnbeer.com/wp-content/uploads/Indeed
 -on-Ice.jpg
CATEGORIES:Breweries
LOCATION:Depot Ice Rink\, 225 3rd Avenue South\, Minneapolis\, MN\, United 
 States
GEO:44.9803577;-93.26336570000001
X-APPLE-STRUCTURED-LOCATION;VALUE=URI;X-ADDRESS=225 3rd Avenue South\, Minn
 eapolis\, MN\, United States;X-APPLE-RADIUS=100;X-TITLE=Depot Ice Rink:geo
 :44.9803577,-93.26336570000001
END:VEVENT
END:VCALENDAR