BEGIN:VCALENDAR
VERSION:2.0
PRODID:-//wp-events-plugin.com//7.2.3.1//EN
BEGIN:VEVENT
UID:3145@mnbeer.com
DTSTART:20180502T200000Z
DTEND:20180503T040000Z
DTSTAMP:20180425T140247Z
URL:https://www.mnbeer.com/events/indeed-we-can/
SUMMARY:Indeed We Can
DESCRIPTION:Indeed Brewing is donating 100% of their proceeds to Angel Foun
 dation from 3:00-11:00 PM on 5/2! The event will feature delicious beer\, 
 as well as a pop-up market with local vendors and live music from Monkeys 
 in a Zoo. Come out and have a great time\, while helping to support adults
  with cancer in Minnesota. For more details\, please visit https://mnangel
 .org/events/indeed-we-can/
ATTACH;FMTTYPE=image/jpeg:https://www.mnbeer.com/wp-content/uploads/IBC_We
 Can_HorzLogo_CMYK_GoldTexture.jpg
CATEGORIES:Breweries,Charity,Music
LOCATION:Indeed Brewing Co.\, 711 15th Avenue NE\, Minneapolis\, MN\, 55413
 \, United States
GEO:45.003464;-93.25154700000002
X-APPLE-STRUCTURED-LOCATION;VALUE=URI;X-ADDRESS=711 15th Avenue NE\, Minnea
 polis\, MN\, 55413\, United States;X-APPLE-RADIUS=100;X-TITLE=Indeed Brewi
 ng Co.:geo:45.003464,-93.25154700000002
END:VEVENT
END:VCALENDAR