BEGIN:VCALENDAR
VERSION:2.0
PRODID:-//wp-events-plugin.com//7.2.3.1//EN
BEGIN:VEVENT
UID:797@mnbeer.com
DTSTART:20140920T120000Z
DTEND:20140920T190000Z
DTSTAMP:20140826T165759Z
URL:https://www.mnbeer.com/events/jackd-up-gears-beers-bike-tour/
SUMMARY:Jack'd Up Gears &amp\; Beers Bike Tour
DESCRIPTION:Enjoy a picturesque ride along the rolling hills of Stearns Cou
 nty on either the 25 or 50 mile route option. There will be rest stops alo
 ng the way. Registration includes a t-shirt and pint of beer. There will b
 e food and fun after the ride so stick around the tap room. To register vi
 sit www.jackdupgearsandbeers.com. Prices will increase closer to the date.
ATTACH;FMTTYPE=image/jpeg:https://www.mnbeer.com/wp-content/uploads/Bike_L
 ogo.jpg
LOCATION:Third Street Brewhouse\, 219 Red River Ave. N\, Cold Spring\, MN\,
  56320\, Central\, United States
GEO:45.4582466;-94.42904999999996
X-APPLE-STRUCTURED-LOCATION;VALUE=URI;X-ADDRESS=219 Red River Ave. N\, Cold
  Spring\, MN\, 56320\, Central\, United States;X-APPLE-RADIUS=100;X-TITLE=
 Third Street Brewhouse:geo:45.4582466,-94.42904999999996
END:VEVENT
END:VCALENDAR