BEGIN:VCALENDAR
VERSION:2.0
PRODID:-//wp-events-plugin.com//7.2.3.1//EN
BEGIN:VEVENT
UID:762@mnbeer.com
DTSTART:20140920T200000Z
DTEND:20140920T220000Z
DTSTAMP:20140715T203325Z
URL:https://www.mnbeer.com/events/katiefest/
SUMMARY:Katiefest
DESCRIPTION:Hops and spice and everything nice! Join us for the third-annua
 l Katiefest\, an initiative of the Young Alumnae Committee of the Alumnae 
 Council. Katiefest includes live music\, Oktoberfest themed food\, samplin
 g of local beers and hard ciders\, and a photo booth. The first Katiefest 
 took place in 2012\, and it has become a favorite annual event for alumnae
  and their friends and family.\n\nhttps://www.facebook.com/katiefestbeerta
 sting/info
CATEGORIES:Tasting
LOCATION:The O'Shaughnessy\, 2004 Randolph Ave\, St. Paul\, United States
GEO:44.92471700000001;-93.18229200000002
X-APPLE-STRUCTURED-LOCATION;VALUE=URI;X-ADDRESS=2004 Randolph Ave\, St. Pau
 l\, United States;X-APPLE-RADIUS=100;X-TITLE=The O'Shaughnessy:geo:44.9247
 1700000001,-93.18229200000002
END:VEVENT
END:VCALENDAR