BEGIN:VCALENDAR
VERSION:2.0
PRODID:-//wp-events-plugin.com//7.2.3.1//EN
BEGIN:VEVENT
UID:3159@mnbeer.com
DTSTART:20180527T170000Z
DTEND:20180527T180000Z
DTSTAMP:20180502T135955Z
URL:https://www.mnbeer.com/events/keg-your-creations-kegging-101/
SUMMARY:Keg Your Creations - Kegging 101
DESCRIPTION:Tired of bottling your beer? Ditch the bottles and join us in t
 his Intro to Kegging class and learn how to start kegging your beer at hom
 e. We will explain the "ins" and "outs" of kegging and force carbonating y
 our beer\, as well as sodas\, sparkling water\, hard ciders and even wine!
 \n\nInfo: http://nbrew.me/kegyo7066f\n
CATEGORIES:Homebrew
LOCATION:Midwest Supplies\, 5825 EXCELSIOR BLVD. \, ST LOUIS PARK\, MN\, 55
 414\, United States
GEO:44.9287528;-93.35441400000002
X-APPLE-STRUCTURED-LOCATION;VALUE=URI;X-ADDRESS=5825 EXCELSIOR BLVD. \, ST 
 LOUIS PARK\, MN\, 55414\, United States;X-APPLE-RADIUS=100;X-TITLE=Midwest
  Supplies:geo:44.9287528,-93.35441400000002
END:VEVENT
END:VCALENDAR