BEGIN:VCALENDAR
VERSION:2.0
PRODID:-//wp-events-plugin.com//7.2.3.1//EN
BEGIN:VEVENT
UID:687@mnbeer.com
DTSTART:20140607T160000Z
DTEND:20140607T183000Z
DTSTAMP:20140512T181536Z
URL:https://www.mnbeer.com/events/kegs-eggs-2-st-paul-summer-beer-fest-bef
 ore-party/
SUMMARY:Kegs &amp\; Eggs 2 (St Paul Summer Beer Fest Before-Party)
DESCRIPTION:Join us for the second annual Kegs &amp\; Eggs Brunch\, the off
 icial pre-party brunch before the St. Paul Summer Beer Festival taking pla
 ce nearby at the MN State Fairgrounds. There will be Summit beers on tap a
 nd firkins of Oatmeal Stout and Summer Ale. By tickets ($12.95) in advance
  at Stout's and get a free pint of Summit at time of purchase.
ATTACH;FMTTYPE=image/jpeg:https://www.mnbeer.com/wp-content/uploads/kegs-a
 nd-eggs-2-2014-Copy.jpg
CATEGORIES:Bars/Restaurants
LOCATION:Stout's Pub\, 1611 West Larpenteur\, Falcon Heights\, MN\, United 
 States
GEO:44.992085;-93.16842700000001
X-APPLE-STRUCTURED-LOCATION;VALUE=URI;X-ADDRESS=1611 West Larpenteur\, Falc
 on Heights\, MN\, United States;X-APPLE-RADIUS=100;X-TITLE=Stout's Pub:geo
 :44.992085,-93.16842700000001
END:VEVENT
END:VCALENDAR