BEGIN:VCALENDAR
VERSION:2.0
PRODID:-//wp-events-plugin.com//7.2.3.1//EN
BEGIN:VEVENT
UID:3229@mnbeer.com
DTSTART:20180602T160000Z
DTEND:20180602T170000Z
DTSTAMP:20180518T125941Z
URL:https://www.mnbeer.com/events/kombucha-basics/
SUMMARY:Kombucha Basics
DESCRIPTION:Unlock the ancient secrets of Kombucha at home! Whether you’r
 e planning to harness the health benefits often attributed to Kombucha\, o
 r simply a fan of the tea itself\, we’ll show you the best way to tackle
  your first batch with our new EverBru Kombucha starter kit! And for a fra
 ction of the price!\n\nMore info here:\nhttps://www.eventbrite.com/e/kombu
 cha-basics-tickets-45702091185?aff=mnbeer
CATEGORIES:Homebrew
LOCATION:Northern Brewer\, 6012 Lyndale Avenue South\, Minneapolis\, MN\, 5
 5419\, United States
GEO:44.8934989;-93.28960569999998
X-APPLE-STRUCTURED-LOCATION;VALUE=URI;X-ADDRESS=6012 Lyndale Avenue South\,
  Minneapolis\, MN\, 55419\, United States;X-APPLE-RADIUS=100;X-TITLE=North
 ern Brewer:geo:44.8934989,-93.28960569999998
END:VEVENT
END:VCALENDAR