BEGIN:VCALENDAR
VERSION:2.0
PRODID:-//wp-events-plugin.com//7.2.3.1//EN
BEGIN:VEVENT
UID:1895@mnbeer.com
DTSTART:20160709T190000Z
DTEND:20160709T230000Z
DTSTAMP:20160708T134030Z
URL:https://www.mnbeer.com/events/lager-series-3-golden-mile-munich/
SUMMARY:Lager Series #3 - Golden Mile Munich
DESCRIPTION:NorthGate Brewing in Northeast Minneapolis will host the third 
 and final event of its Summer Lager Series\, releasing the Gold Mild Munic
 h\, a malty sweet lager beer with a hint of German hop. \n\nFor more info\
 , visit: https://www.facebook.com/events/366718426785777/
CATEGORIES:Breweries
LOCATION:NorthGate Brewing\, 783 Harding\, Minneapolis\, MN\, United States
GEO:44.9983406;-93.22114959999999
X-APPLE-STRUCTURED-LOCATION;VALUE=URI;X-ADDRESS=783 Harding\, Minneapolis\,
  MN\, United States;X-APPLE-RADIUS=100;X-TITLE=NorthGate Brewing:geo:44.99
 83406,-93.22114959999999
END:VEVENT
END:VCALENDAR