BEGIN:VCALENDAR
VERSION:2.0
PRODID:-//wp-events-plugin.com//7.2.3.1//EN
BEGIN:VEVENT
UID:1068@mnbeer.com
DTSTART:20150205T210000Z
DTEND:20150206T010000Z
DTSTAMP:20150129T223548Z
URL:https://www.mnbeer.com/events/lagunitas-tapping/
SUMMARY:Lagunitas Tapping
DESCRIPTION:We will be tapping Hop Stoopid\, Brown Shugga\, Rye Cacao Porte
 r\, and Pils. Come hang out!
CATEGORIES:Beer Release
LOCATION:The Happy Gnome\, 498 Selby Avenue\, St. Paul\, MN\, United States
GEO:44.946408;-93.12093649999997
X-APPLE-STRUCTURED-LOCATION;VALUE=URI;X-ADDRESS=498 Selby Avenue\, St. Paul
 \, MN\, United States;X-APPLE-RADIUS=100;X-TITLE=The Happy Gnome:geo:44.94
 6408,-93.12093649999997
END:VEVENT
END:VCALENDAR