BEGIN:VCALENDAR
VERSION:2.0
PRODID:-//wp-events-plugin.com//7.2.3.1//EN
BEGIN:VEVENT
UID:3273@mnbeer.com
DTSTART:20181027T170000Z
DTEND:20181028T020000Z
DTSTAMP:20180924T210736Z
URL:https://www.mnbeer.com/events/lake-monster-bash/
SUMMARY:Lake Monster Bash
DESCRIPTION:Join us at Lake Monster Brewing on Saturday\, October 27th for 
 the 2nd Annual Lake Monster Bash! Grab your tickets CASH ONLY at the tapro
 om or online at tempotickets.com/MonsterBash2018.\n\nLake Monster Brewing 
 Company\, The Current\, and GetKnit Events have joined forces for a second
  year to create a one-day outdoor music festival to help you celebrate Hal
 loween with a spooktacular line up of live music\, delicious craft beer\, 
 food trucks\, and more! \n\nThe festival will take place at Lake Monster
 ’s outdoor plaza with doors opening at NOON and live music starting at 1
  PM. This event boasts an amazing music line-up: Field Report\, Dead Horse
 s\, The Pines\, SOLID GOLD\, and Al Church. In addition to an amazing line
 -up of artists\, Lake Monster will be offering up some hauntingly diverse 
 flagships and specialty brews to enjoy.\n\nThroughout the party\, show off
  your ghastly garb in our costume contests and dare to enter our delightfu
 l drawings for special prizes from GetKnit and Lake Monster. Should you ne
 ed some dancing fuel\, order up some grub from local food trucks which wil
 l be on-site all day. When the clock strikes 9 PM\, the live music ends bu
 t you will be able to keep the party going inside of Lake Monster’s tap 
 room.\n\nSo leave the Halloween planning to us and join GetKnit and Lake M
 onster for an unforgettable full day of live music\, craft beer\, and danc
 ing – if you dare!\n\nTickets are $15\, and include: \n- Pint of craft b
 eer from Lake Monster Brewing Co.\n- Live music featuring five amazing ban
 ds\n- Exclusive access to specialty beers and infusions \n- Exclusive acce
 ss to Lake Monster Brewing\n- Costume contests\n- Metro transit pass\n- Ac
 cess to food trucks
CATEGORIES:Beer Festival
LOCATION:Lake Monster Brewing\, 550 Vandalia Street #160\, St. Paul \, MN\,
  55114\, United States
GEO:44.95774979999999;-93.19138659999999
X-APPLE-STRUCTURED-LOCATION;VALUE=URI;X-ADDRESS=550 Vandalia Street #160\, 
 St. Paul \, MN\, 55114\, United States;X-APPLE-RADIUS=100;X-TITLE=Lake Mon
 ster Brewing:geo:44.95774979999999,-93.19138659999999
END:VEVENT
END:VCALENDAR