BEGIN:VCALENDAR
VERSION:2.0
PRODID:-//wp-events-plugin.com//7.2.3.1//EN
BEGIN:VEVENT
UID:1155@mnbeer.com
DTSTART:20150418T220000Z
DTEND:20150419T010000Z
DTSTAMP:20150313T184747Z
URL:https://www.mnbeer.com/events/leinenkugels-ice-out-party/
SUMMARY:Leinenkugel’s Ice Out Party
DESCRIPTION:Wayzata Bar and Grill will be hosting Leinenkugel’s Ice Out P
 arty Saturday\, April 18 from 5:00 to 7:00pm.\n\nEnjoy $3.50 Leinenkugel S
 handy pints\, plus keep the glass!\n
CATEGORIES:Bars/Restaurants
LOCATION:Wayzata Bar and Grill\, 747 Mill Street\, Wayzata\, Minnesota\, 55
 391\, United States
GEO:44.9693131;-93.51021029999998
X-APPLE-STRUCTURED-LOCATION;VALUE=URI;X-ADDRESS=747 Mill Street\, Wayzata\,
  Minnesota\, 55391\, United States;X-APPLE-RADIUS=100;X-TITLE=Wayzata Bar 
 and Grill:geo:44.9693131,-93.51021029999998
END:VEVENT
END:VCALENDAR