BEGIN:VCALENDAR
VERSION:2.0
PRODID:-//wp-events-plugin.com//7.2.3.1//EN
BEGIN:VEVENT
UID:1070@mnbeer.com
DTSTART:20150224T220000Z
DTEND:20150225T043000Z
DTSTAMP:20150129T223632Z
URL:https://www.mnbeer.com/events/let-it-ride-release-party-barrel-aged-ba
 sement/
SUMMARY:Let it Ride Release Party + Barrel-Aged Basement!
DESCRIPTION:Brewed with an unfettered blend of Mosaic\, Calypso\, and El Do
 rado hops\, LET IT RIDE IPA freewheels on the nose with notes of blueberry
 \, pear\, and tropical fruit. Take a deep breath\, and hop on for the ride
  as we release our highly anticipated spring seasonal exclusively at the T
 urf Club on Tuesday\, February 24th.  Let's give a warm welcome to our muc
 h-loved seasonal IPA with a party at the Turf Club\, featuring Let it Ride
 \, live music\, and a 'Barrel-Aged Basement' in the Clown Lounge!\n\nBand 
 line-up:\nNarco States\nFlasher\nDJ Paper Sleeves\n\nLet it Ride released 
 at 5pm. No cover before 7pm\, $5 cover after 7pm\nBarrel Aged Basement in 
 the Clown Lounge: Flight of four rare Indeed Barrel Aged beers beginning a
 t 7pm
CATEGORIES:Bars/Restaurants,Beer Release,Music
LOCATION:Turf Club\, 1601 University Avenue West\, Saint Paul\, MN\, 55104\
 , United States
GEO:44.9559939;-93.16796299999999
X-APPLE-STRUCTURED-LOCATION;VALUE=URI;X-ADDRESS=1601 University Avenue West
 \, Saint Paul\, MN\, 55104\, United States;X-APPLE-RADIUS=100;X-TITLE=Turf
  Club:geo:44.9559939,-93.16796299999999
END:VEVENT
END:VCALENDAR