BEGIN:VCALENDAR
VERSION:2.0
PRODID:-//wp-events-plugin.com//7.2.3.1//EN
BEGIN:VEVENT
UID:694@mnbeer.com
DTSTART:20140512T190000Z
DTEND:20140516T070000Z
DTSTAMP:20140512T181514Z
URL:https://www.mnbeer.com/events/lets-celebrate-craft-beer-week-our-20th-
 anniversary/
SUMMARY:Let's celebrate craft beer week &amp\; our 20th Anniversary
DESCRIPTION:Let's enjoy Craft Beer Week and help us celebrate our 20th Anni
 versary.....Here are the events happening:\nGuinness specials all week\nMo
 nday - Deschutes Party beers on tap: Hop Henge\, Fresh Squeezed\, $2 Chain
 breaker from 2-6 pm\, Black Butte XXV\nTuesday - Lagunitas Party beers on 
 tap: Fusion 19\, Lil Sumpin\, Night Time IPA\nWed - Friday - The best of l
 ocal craft beers including Surly\, Indeed\, Fulton\, Steel Toe\, Schells\,
  Summit\nJoin us on Friday @ 4 pm to meet Mark Studrud from Summit Brewing
 \nPrize giveaways\, loyalty card bonus events &amp\; more!\nHope to see yo
 u here!!\n
CATEGORIES:Bars/Restaurants
LOCATION:Mackenzie\, 918 Hennepin Ave.\, Minneapolis\, MN\, 55403\, United 
 States
GEO:44.9762466;-93.27751739999996
X-APPLE-STRUCTURED-LOCATION;VALUE=URI;X-ADDRESS=918 Hennepin Ave.\, Minneap
 olis\, MN\, 55403\, United States;X-APPLE-RADIUS=100;X-TITLE=Mackenzie:geo
 :44.9762466,-93.27751739999996
END:VEVENT
END:VCALENDAR