BEGIN:VCALENDAR
VERSION:2.0
PRODID:-//wp-events-plugin.com//7.2.3.1//EN
BEGIN:VEVENT
UID:703@mnbeer.com
DTSTART:20140529T230000Z
DTEND:20140530T030000Z
DTSTAMP:20140521T212608Z
URL:https://www.mnbeer.com/events/lift-bridge-beer-dinner/
SUMMARY:Lift Bridge Beer Dinner
DESCRIPTION:2nd Annual Lift Bridge Beer Dinner\nFireLake Grill House &amp\;
  Cocktail bar Downtown Minneapolis. Our first BIG EVENT after our beautifu
 l redesign!\n\nJoin us for a 5 course beer adventure as Chef Jim Kyndberg 
 and his talented culinary team join forces with award winning Lift Bridge 
 brewery.\nEvery course is inspired by a different local brew. Reservations
  a must! Call Kristin Holt at 612.547.6241 for your ticket. $55 per person
  ++
CATEGORIES:Beer Dinner
LOCATION:FireLake Grill House &amp\; Cocktail Bar\, 31 S 7th St.\, Minneapo
 lis\, MN\, 55402\, United States
GEO:44.9774953;-93.27368179999996
X-APPLE-STRUCTURED-LOCATION;VALUE=URI;X-ADDRESS=31 S 7th St.\, Minneapolis\
 , MN\, 55402\, United States;X-APPLE-RADIUS=100;X-TITLE=FireLake Grill Hou
 se & Cocktail Bar:geo:44.9774953,-93.27368179999996
END:VEVENT
END:VCALENDAR