BEGIN:VCALENDAR
VERSION:2.0
PRODID:-//wp-events-plugin.com//7.2.3.1//EN
BEGIN:VEVENT
UID:1057@mnbeer.com
DTSTART:20150307T220000Z
DTEND:20150308T030000Z
DTSTAMP:20150113T215927Z
URL:https://www.mnbeer.com/events/lift-bridge-irish-coffee-stout-release-2
 /
SUMMARY:Lift Bridge Irish Coffee Stout Release
DESCRIPTION:Celebrate your Irish heritage (or lack thereof) with the releas
 e of their Irish Coffee Stout at the brewery. They’ll have Irish-themed 
 music\, food and 750ml bottles of this wonderful beer for sale. Better tha
 n St. Patrick’s day!\n\n"Morning\, noon\, night– any time is the right
  time for this delightful combination of whiskey\, coffee and cream. Russi
 an Imperial Stout is aged in whiskey barrels and blended with a big Milk S
 tout\, before it’s finished off with local free trade organic roasted co
 ffee. You don’t have to be Irish to appreciate this labor of love\, but 
 you’ll certainly feel the luck. Great with desserts\, including chocolat
 e cake and cheesecake. "
ATTACH;FMTTYPE=image/jpeg:https://www.mnbeer.com/wp-content/uploads/liftbr
 idgeirish.jpg
CATEGORIES:Beer Release
LOCATION:Lift Bridge Brewing Co\, 1900 Tower Drive\, Stillwater\, Minnesota
 \, 55082\, United States
GEO:45.039177;-92.831797
X-APPLE-STRUCTURED-LOCATION;VALUE=URI;X-ADDRESS=1900 Tower Drive\, Stillwat
 er\, Minnesota\, 55082\, United States;X-APPLE-RADIUS=100;X-TITLE=Lift Bri
 dge Brewing Co:geo:45.039177,-92.831797
END:VEVENT
END:VCALENDAR