BEGIN:VCALENDAR
VERSION:2.0
PRODID:-//wp-events-plugin.com//7.2.3.1//EN
BEGIN:VEVENT
UID:1058@mnbeer.com
DTSTART:20150124T220000Z
DTEND:20150125T030000Z
DTSTAMP:20150113T220348Z
URL:https://www.mnbeer.com/events/lift-bridge-silhouette-release/
SUMMARY:Lift Bridge Silhouette Release
DESCRIPTION:Black as a moonless night and brewed in the style of a Russian 
 Imperial Stout\, this complex beer’s notes of coffee\, roasted malt\, ri
 ch toffee and black licorice meld with an intense roasted character to pro
 vide a complex\, rich and full bodied beer. It’ll warm the senses on a c
 old winter night\, or anytime you decide to let a little darkness in. Pair
 s well with cave aged blue cheese\, dark chocolate and cherry chocolate ca
 ke.
ATTACH;FMTTYPE=image/jpeg:https://www.mnbeer.com/wp-content/uploads/liftbr
 idge-silhouette-e1359568471209.jpg
CATEGORIES:Beer Release
LOCATION:Lift Bridge Brewing Co\, 1900 Tower Drive\, Stillwater\, Minnesota
 \, 55082\, United States
GEO:45.039177;-92.831797
X-APPLE-STRUCTURED-LOCATION;VALUE=URI;X-ADDRESS=1900 Tower Drive\, Stillwat
 er\, Minnesota\, 55082\, United States;X-APPLE-RADIUS=100;X-TITLE=Lift Bri
 dge Brewing Co:geo:45.039177,-92.831797
END:VEVENT
END:VCALENDAR