BEGIN:VCALENDAR
VERSION:2.0
PRODID:-//wp-events-plugin.com//7.2.3.1//EN
BEGIN:VEVENT
UID:3238@mnbeer.com
DTSTART:20180616T170000Z
DTEND:20180617T010000Z
DTSTAMP:20180614T184823Z
URL:https://www.mnbeer.com/events/local-pop-up-market/
SUMMARY:Local POP-UP Market
DESCRIPTION:Dual Citizen Brewery welcomes Paddle North and Uptown Woodworks
  to join our first ‘Local Pop-Up Market’.  Each shop offers unique pro
 ducts but maintain a common thread\, which is Minnesota.  Not just as a lo
 cation but as the inspiration in the development of each craft.  We all en
 joy what we do and are looking forward to the opportunity to share it with
  you.\n\nHost:\nDual Citizen Brewery\, MN Craft Beer \n“Dual Citizen is 
 a community-focused brewhouse with inspired modern takes on classically-st
 yled beers.  All with a focus on celebrating community roots and developin
 g local pride”.\n\nProducts: MN Craft Beer\, Local N/As\, Growler &amp\;
  Crowlers\, Apparel and Glassware\nhttps://dualcitizenbrewing.com\n\nFeatu
 red Shops:\nPaddle North\, Stand Up Paddle Boards\n“Raised on Minnesota
 ’s 90\,000 miles of shoreline\, it was only natural that our product cen
 ter around water.  Paddle North’s flagship paddle board\, the Loon\, is 
 made to inspire exploration”.\n\nProducts: Boards\, Accessories\, Appare
 l\, SUP Trips &amp\; Events and Board Repair\nhttps://paddlenorth.com\n\nU
 ptown Woodworks\, Wooden Wall Art\n“Specializes in making custom and per
 sonalized wood wall art\; including lake maps\, outdoor themed décor and 
 celebrations of Minnesota. They absolutely love making projects that are s
 pecial to the customer.”\n\nProducts: Custom Designs\, Established Desig
 ns and Apparel\nhttps://www.uptownwoodworks.com\n\nFood available for purc
 hase from:\nGerhard‘s Würstelstand\, a food trailer offering brats serv
 ed the authentic European way. \nThe Naughty Greek\, delivering Athenian s
 treet food right to your table. \n\nThe event is free but you will receive
  a complimentary\, limited edition DCBC tulip glass with each purchase fro
 m Paddle North and Uptown Woodworks.  If you’re just getting your foot w
 et\, no pun intended\, feel free to ask questions and familiarize yourself
  in this pressure free environment.  Grab a beer and take a look around\, 
 it worked for us.\n
ATTACH;FMTTYPE=image/jpeg:https://www.mnbeer.com/wp-content/uploads/IMG_44
 39.jpg
CATEGORIES:Art
LOCATION:Dual Citizen Taproom\, 725 Raymond Ave\, St. Paul\, Minnesota\, 55
 114\, United States
GEO:44.9631668;-93.1978006
X-APPLE-STRUCTURED-LOCATION;VALUE=URI;X-ADDRESS=725 Raymond Ave\, St. Paul\
 , Minnesota\, 55114\, United States;X-APPLE-RADIUS=100;X-TITLE=Dual Citize
 n Taproom:geo:44.9631668,-93.1978006
END:VEVENT
END:VCALENDAR