BEGIN:VCALENDAR
VERSION:2.0
PRODID:-//wp-events-plugin.com//7.2.3.1//EN
BEGIN:VEVENT
UID:996@mnbeer.com
DTSTART:20141218T210000Z
DTEND:20141221T070000Z
DTSTAMP:20141215T202132Z
URL:https://www.mnbeer.com/events/long-dark-nights/
SUMMARY:LONG DARK NIGHTS
DESCRIPTION:Thursday\, Dec. 18th - tapping Odell Mountain Standard IPA &amp
 \; 2012 Oskar Blues Barrel-Aged Ten Fidy\n\nFriday\, Dec. 19th - New Belgi
 um Salted Chocolate &amp\; 2011 Avery Mephistopheles\n\nSaturday\, Dec. 20
 th - Sierra Nevada Narwhal &amp\; Indeed Rum King\n\nSunday\, Dec. 21st --
  Finnegans Dead Irish Poet\, Founders KBS\, Founders Imperial Stout\, Grea
 t Lakes Blackout Stout and more!
CATEGORIES:Beer Festival
LOCATION:MACKENZIE\, 918 Hennepin Ave\, Minneapolis\, MN\, 55403\, United S
 tates
GEO:44.9763346;-93.27766489999999
X-APPLE-STRUCTURED-LOCATION;VALUE=URI;X-ADDRESS=918 Hennepin Ave\, Minneapo
 lis\, MN\, 55403\, United States;X-APPLE-RADIUS=100;X-TITLE=MACKENZIE:geo:
 44.9763346,-93.27766489999999
END:VEVENT
END:VCALENDAR