BEGIN:VCALENDAR
VERSION:2.0
PRODID:-//wp-events-plugin.com//7.2.3.1//EN
BEGIN:VEVENT
UID:699@mnbeer.com
DTSTART:20140523T210000Z
DTEND:20140525T020000Z
DTSTAMP:20140514T213649Z
URL:https://www.mnbeer.com/events/lsbs-taproom-grand-opening-2/
SUMMARY:LSB's Taproom Grand Opening
DESCRIPTION:Lake Superior Brewing's Taproom Grand Opening!\nBeer\, Food\, F
 irkins\, Games\, Tours\, Fun!\nFriday 4-9pm\, Saturday 3-9pm\nFollow us on
  facebook and twitter for updates and other events!
ATTACH;FMTTYPE=image/jpeg:https://www.mnbeer.com/wp-content/uploads/LSB-Lo
 go.jpg
CATEGORIES:Breweries
LOCATION:Lake Superior Brewing Co\, 2711 West Superior Street\, Duluth\, MN
 \, 55806\, United States
GEO:46.7607791;-92.13236319999999
X-APPLE-STRUCTURED-LOCATION;VALUE=URI;X-ADDRESS=2711 West Superior Street\,
  Duluth\, MN\, 55806\, United States;X-APPLE-RADIUS=100;X-TITLE=Lake Super
 ior Brewing Co:geo:46.7607791,-92.13236319999999
END:VEVENT
END:VCALENDAR