BEGIN:VCALENDAR
VERSION:2.0
PRODID:-//wp-events-plugin.com//7.2.3.1//EN
BEGIN:VEVENT
UID:1103@mnbeer.com
DTSTART:20150310T110000Z
DTEND:20150311T030000Z
DTSTAMP:20150218T191222Z
URL:https://www.mnbeer.com/events/lucid-beer-dinner/
SUMMARY:Lucid Beer Dinner
DESCRIPTION:The 5 course\, 6 beer dinner will be $85 and tickets will be so
 ld on eventbrite.com.  Some of the feature beers paired with Chef Scott Br
 ink's amazing food will include Lucid Duce\, and Halucidation.  Halucidati
 on is a Belgian style triple with the addition of Parley Lakes winery grap
 es. Tickets are on sale now. \n\nMeet and greet is at 6pm\, Dinner at 7pm.
 \n
ATTACH;FMTTYPE=image/jpeg:https://www.mnbeer.com/wp-content/uploads/lucid-
 brewing-logo-large-1.png
CATEGORIES:Beer Dinner
LOCATION:The Happy Gnome\, 498 Selby Avenue\, Saint Paul\, Minnesota\, 5510
 4\, United States
GEO:44.946357;-93.12101710000002
X-APPLE-STRUCTURED-LOCATION;VALUE=URI;X-ADDRESS=498 Selby Avenue\, Saint Pa
 ul\, Minnesota\, 55104\, United States;X-APPLE-RADIUS=100;X-TITLE=The Happ
 y Gnome:geo:44.946357,-93.12101710000002
END:VEVENT
END:VCALENDAR