BEGIN:VCALENDAR
VERSION:2.0
PRODID:-//wp-events-plugin.com//7.2.3.1//EN
BEGIN:VEVENT
UID:3231@mnbeer.com
DTSTART:20180804T170000Z
DTEND:20180804T210000Z
DTSTAMP:20180608T145754Z
URL:https://www.mnbeer.com/events/lupulin-brewing-ipa-invitational-at-erx-
 motor-park/
SUMMARY:Lupulin Brewing IPA Invitational at ERX Motor Park
DESCRIPTION:Don’t miss the Lupulin Brewing IPA Invitational August 4th!\n
 \nWe’ve asked the top IPA brewers to join us for this special event. The
 y’ve been challenged to create their most innovative\, flavorful and ori
 ginal\, single\, double and triple IPAs to share with thousands of hop fan
 s.\n\nA portion of ticket proceeds will benefit the Three River’s Commun
 ity Foundation which works to provide grants and scholarships for the Elk 
 River area school district (ISD 728).\n\nTicket pricing\n\nTickets will be
  limited! Get yours before they sell out!\n\n**YOU MUST BE 21+ IN ORDER TO
  ATTEND THE INVITATIONAL**\n\n$50 - General Admission- Includes unlimited 
 pours from breweries from all over the U.S.\n\n$100 - VIP - Want to enhanc
 e your experience? Upgrade to VIP. Get in an hour early and gain access to
  our VIP event center which includes: Wifi\, air conditioning\, private re
 strooms\, lounge space\, and of course\, lots of food.\n\nDesignated Drive
 r Tickets\n**ALL DESIGNATED DRIVER MUST BE OLDER THAN 21**\n\nFREE - Gener
 al Admissions Designated Driver - Designated drivers will gain general adm
 ission access free of charge. No beer samples will be provided to designat
 ed drivers. Pop and water will be available.\n\n$35 - VIP Designated Drive
 r - VIP Designated Drivers will gain access to our VIP area\, featuring ou
 r VIP event center which includes: Wifi\, air conditioning\, private restr
 ooms\, lounge space\, and of course\, lots of food. No beer samples will b
 e provided to designated drivers.\n\nSo Who’s In?\nWe are excited to ann
 ounce the following breweries will be joining us for our Inaugural Lupulin
  Brewing IPA Invitational:\n\nAle Asylum - WI​\n\nBarrel Theory Beer Com
 pany - MN\n\nBent Paddle - MN\n\nBlackStack Brewing - MN\n\nBrewing Projek
 t - WI​\n\nDangerous Man - MN\n\nDrekker - ND​\n\nFair State Brewing C
 ooperative - MN\n\nFinnegans - MN\n\nInsight - MN\n\nJunkyard Brewing - MN
 \n\nListermann Brewing - OH​\n\nMikkeller - CA​\n\nModist Brewing - MN
 \n\nOdd13 - CO​\n\nPipeworks - IL​\n\nSurly Brewing - MN\n\nTailgate -
  TN​\n\nToppling Goliath - IA​\n\n12welve Eyes - MN\n\nWar Pigs - IL/W
 I/IN\n\n18th Street - IN
ATTACH;FMTTYPE=image/jpeg:https://www.mnbeer.com/wp-content/uploads/Artboa
 rd-1-100-e1528469854355.jpg
CATEGORIES:Beer Festival
LOCATION:ERX Motor Park\, 21591 US-169\, Elk River\, MN\, 55330\, United St
 ates
GEO:45.36567;-93.56398039999999
X-APPLE-STRUCTURED-LOCATION;VALUE=URI;X-ADDRESS=21591 US-169\, Elk River\, 
 MN\, 55330\, United States;X-APPLE-RADIUS=100;X-TITLE=ERX Motor Park:geo:4
 5.36567,-93.56398039999999
END:VEVENT
END:VCALENDAR