BEGIN:VCALENDAR
VERSION:2.0
PRODID:-//wp-events-plugin.com//7.2.3.1//EN
BEGIN:VEVENT
UID:3170@mnbeer.com
DTSTART:20180511T220000Z
DTEND:20180512T020000Z
DTSTAMP:20180502T164324Z
URL:https://www.mnbeer.com/events/lupulin-spring-cafe-comosapien-ipa-relea
 se/
SUMMARY:Lupulin/Spring Cafe ComoSapien IPA Release
DESCRIPTION:\n\n\n\nLupulin Brewing has teamed up with Twin Cities restaura
 teur\, Matty O’Reilly\, to create an exclusive IPA for the Como neighbor
 hood of St. Paul\, either at Spring Cafe or Delicata Pizza.\n\n\n\n\n\n\nT
 he new beer\, called ComoSapien IPA\, is 6.0% ABV and 60 IBU. The beer is 
 best described by Matty as he said\, “it was a pleasure to work with Lup
 ulin on this beer. I tried it last week straight out the brite tank and no
  surprise coming from this brewery it’s delicious! I was also happy to f
 ind that it’ll be very food friendly with a nicely balanced hop (almost 
 pineapple) character. I think it’ll be a hit with some tacos on the Spri
 ng Cafe patio this summer.”\n\n\n\n\n\n\nThe “official release” of t
 his beer will be at Spring Cafe on Friday\, May 11th from 5-9 p.m.\n\n\n\n
CATEGORIES:Beer Release
LOCATION:Spring Cafe\, 1360 Lexington Parkway\, St. Paul\, MN\, United Stat
 es
GEO:44.9823039;-93.1431877
X-APPLE-STRUCTURED-LOCATION;VALUE=URI;X-ADDRESS=1360 Lexington Parkway\, St
 . Paul\, MN\, United States;X-APPLE-RADIUS=100;X-TITLE=Spring Cafe:geo:44.
 9823039,-93.1431877
END:VEVENT
END:VCALENDAR