BEGIN:VCALENDAR
VERSION:2.0
PRODID:-//wp-events-plugin.com//7.2.3.1//EN
BEGIN:VEVENT
UID:3158@mnbeer.com
DTSTART:20180526T190000Z
DTEND:20180526T200000Z
DTSTAMP:20180502T135955Z
URL:https://www.mnbeer.com/events/make-cheese-at-home/
SUMMARY:Make Cheese at Home
DESCRIPTION:We will get you started on making cheese at home by showing you
  a variety of techniques including cutting the curd and separating curds a
 nd whey. We will talk about various types of cheese\, how to use the right
  milk for the project\, explain what the rennet and cultures do to help in
  cheese making\, talk about temperature control and aging. All of these co
 mponents have an impact on the final cheese product. Join us for this very
  informative class on cheese making.\n\nInfo: http://nbrew.me/makec3b26b\n
CATEGORIES:Foodie
LOCATION:Midwest Supplies\, 5825 EXCELSIOR BLVD. \, ST LOUIS PARK\, MN\, 55
 414\, United States
GEO:44.9287528;-93.35441400000002
X-APPLE-STRUCTURED-LOCATION;VALUE=URI;X-ADDRESS=5825 EXCELSIOR BLVD. \, ST 
 LOUIS PARK\, MN\, 55414\, United States;X-APPLE-RADIUS=100;X-TITLE=Midwest
  Supplies:geo:44.9287528,-93.35441400000002
END:VEVENT
END:VCALENDAR