BEGIN:VCALENDAR
VERSION:2.0
PRODID:-//wp-events-plugin.com//7.2.3.1//EN
BEGIN:VEVENT
UID:828@mnbeer.com
DTSTART:20141004T180000Z
DTEND:20141004T210000Z
DTSTAMP:20140909T173549Z
URL:https://www.mnbeer.com/events/make-your-own-hard-cider/
SUMMARY:Make Your Own Hard Cider
DESCRIPTION:Jim Watkins\, an owner and founder of Sociable Cider Werks (the
  first hard cider brewery in Minneapolis)\, walks you through the process 
 of making hard cider with juice from Cider Werks. Learn how to use a cider
  press and the history of apple cider. Take home a one gallon carboy full 
 of cider wort. Bring your favorite commercial hard cider to share for a sa
 mpling after your wort is prepared. Price includes the juice as well as ca
 rboy and other materials needed to start brewing cider from Midwest Suppli
 es. Ages 21+ Cost $30. Reservations required by September 19. Call 763-559
 -6700 to sign up.
ATTACH;FMTTYPE=image/jpeg:https://www.mnbeer.com/wp-content/uploads/Cider-
 Press-3.png
CATEGORIES:Education,Homebrew
LOCATION:Eastman Nature Center\, 13351 Elm Creek Rd\, Dayton\, MN\, 55327\,
  United States
GEO:45.154458;-93.44994309999998
X-APPLE-STRUCTURED-LOCATION;VALUE=URI;X-ADDRESS=13351 Elm Creek Rd\, Dayton
 \, MN\, 55327\, United States;X-APPLE-RADIUS=100;X-TITLE=Eastman Nature Ce
 nter:geo:45.154458,-93.44994309999998
END:VEVENT
END:VCALENDAR