BEGIN:VCALENDAR
VERSION:2.0
PRODID:-//wp-events-plugin.com//7.2.3.1//EN
BEGIN:VEVENT
UID:3152@mnbeer.com
DTSTART:20180506T170000Z
DTEND:20180506T180000Z
DTSTAMP:20180502T135952Z
URL:https://www.mnbeer.com/events/make-your-own-sour-beers/
SUMMARY:Make Your Own Sour Beers
DESCRIPTION:Set off on a mouth-puckering adventure as we tour the highways 
 and byways of making sour beers. Our sour expert will walk you through the
  entire process: from kettle sours to barrel inoculation and adding fruit.
  Plus\, learn crucial techniques on the various sour methods and tips on h
 ow to manage the process to ensure your brew is a success. Join us in this
  informative class and learn everything you need to know on getting starte
 d with sour beers!\n\nInfo: http://nbrew.me/makeyed217\n
CATEGORIES:Homebrew
LOCATION:Midwest Supplies\, 5825 EXCELSIOR BLVD. \, ST LOUIS PARK\, MN\, 55
 414\, United States
GEO:44.9279612;-93.35402920000001
X-APPLE-STRUCTURED-LOCATION;VALUE=URI;X-ADDRESS=5825 EXCELSIOR BLVD. \, ST 
 LOUIS PARK\, MN\, 55414\, United States;X-APPLE-RADIUS=100;X-TITLE=Midwest
  Supplies:geo:44.9279612,-93.35402920000001
END:VEVENT
END:VCALENDAR