BEGIN:VCALENDAR
VERSION:2.0
PRODID:-//wp-events-plugin.com//7.2.3.1//EN
BEGIN:VEVENT
UID:3178@mnbeer.com
DTSTART:20180614T210000Z
DTEND:20180615T040000Z
DTSTAMP:20180514T062752Z
URL:https://www.mnbeer.com/events/manitou-days-firkin-fest-featuring-devon
 -worley-band/
SUMMARY:Manitou Days Firkin Fest featuring Devon Worley Band
DESCRIPTION:For more than 50 years\, the wonderful town we call home — Wh
 ite Bear Lake\, Minnesota — welcomes summer with Manitou Days\, a 3-week
  festival of events showcasing some of the best things about our lakeside 
 community. This year’s festivities kick off on June 14th and\, as always
 \, we’ll be hosting our own little party in the Taproom!\n\nThe 2018 Man
 itou Days Firkin Fest will be the best one yet\, featuring a performance b
 y The Devon Worley Band\, this year’s release of Wheat Bear Lake — our
  lemongrass-ginger wheat beer\, and four firkins of limited edition brews.
 \n\nFirkin Fest coincides with Marketfest — the town’s weekly summer s
 treet fair — and more fun\, food\, art\, and other unique offerings will
  be available throughout the streets surrounding Big Wood. Be sure to come
  early to check out everything White Bear has to offer before and in-betwe
 en beers and music!\n\nMore details: http://bigwoodbrewery.com/event/manit
 ou-days-firkin-fest-featuring-devon-worley-band-2018/
ATTACH;FMTTYPE=image/jpeg:https://www.mnbeer.com/wp-content/uploads/firkin
 2.jpg
CATEGORIES:Brewpubs,Festival,Music,Release
LOCATION:Big Wood Brewery\, 2222 4th Street\, White Bear Lake\, Minnesota\,
  55110\, United States
GEO:45.0853084;-93.00678719999996
X-APPLE-STRUCTURED-LOCATION;VALUE=URI;X-ADDRESS=2222 4th Street\, White Bea
 r Lake\, Minnesota\, 55110\, United States;X-APPLE-RADIUS=100;X-TITLE=Big 
 Wood Brewery:geo:45.0853084,-93.00678719999996
END:VEVENT
END:VCALENDAR