BEGIN:VCALENDAR
VERSION:2.0
PRODID:-//wp-events-plugin.com//7.2.3.1//EN
BEGIN:VEVENT
UID:1054@mnbeer.com
DTSTART:20150214T130000Z
DTEND:20150214T130000Z
DTSTAMP:20150113T214745Z
URL:https://www.mnbeer.com/events/mankato-bockfest-bus/
SUMMARY:Mankato Bockfest Bus
DESCRIPTION:$40\n\nMankato area folks\, this one is for you. This trip begi
 ns and ends at Pub 500 in Mankato - a fun bar in itself. The trip includes
  a great breakfast buffet at Pub 500 and a safe ride to and from Bockfest.
LOCATION:Pub 500\, 500 S. Front Street\, Mankato\, MN\, United States
GEO:44.1636662;-94.0065937
X-APPLE-STRUCTURED-LOCATION;VALUE=URI;X-ADDRESS=500 S. Front Street\, Manka
 to\, MN\, United States;X-APPLE-RADIUS=100;X-TITLE=Pub 500:geo:44.1636662,
 -94.0065937
END:VEVENT
END:VCALENDAR