BEGIN:VCALENDAR
VERSION:2.0
PRODID:-//wp-events-plugin.com//7.2.3.1//EN
BEGIN:VEVENT
UID:784@mnbeer.com
DTSTART:20140817T190000Z
DTEND:20140818T010000Z
DTSTAMP:20140801T152709Z
URL:https://www.mnbeer.com/events/marketingminneapolis1gmail-com/
SUMMARY:marketingminneapolis1@gmail.com
DESCRIPTION:Sunday\, August 17th\nSurly Brewing Company has become one of M
 innesota's most popular craft beer breweries and we are thrilled to be hav
 ing a tap invasion from them on our rooftop!\n\nExpect the following beers
 :\n\nCacao Bender\nFurious\nHell\nOverrated\nPentagram\nCynic\n\nWe will a
 lso be featuring 4 chef creations made with Surly Beers that you will only
  see at this tap Takeover!\n\nFestivities to commence at 2pm\n\nStay tuned
  for more details as we announce them! You can check out more information 
 on our website at www.uptowntavernmpls.com
ATTACH;FMTTYPE=image/jpeg:https://www.mnbeer.com/wp-content/uploads/smalle
 r.jpg
CATEGORIES:Tasting
LOCATION:Uptown Tavern and Rooftop\, 1400 Lagoon Ave\, Minneapolis\, MINNES
 OTA\, 55408\, United States
GEO:44.9494023;-93.29745689999999
X-APPLE-STRUCTURED-LOCATION;VALUE=URI;X-ADDRESS=1400 Lagoon Ave\, Minneapol
 is\, MINNESOTA\, 55408\, United States;X-APPLE-RADIUS=100;X-TITLE=Uptown T
 avern and Rooftop:geo:44.9494023,-93.29745689999999
END:VEVENT
END:VCALENDAR