BEGIN:VCALENDAR
VERSION:2.0
PRODID:-//wp-events-plugin.com//7.2.3.1//EN
BEGIN:VEVENT
UID:1069@mnbeer.com
DTSTART:20150210T210000Z
DTEND:20150211T043000Z
DTSTAMP:20150129T223622Z
URL:https://www.mnbeer.com/events/mexican-honey-release-party/
SUMMARY:Mexican Honey Release Party!
DESCRIPTION:See what all the buzz is about! We're throwing a fiesta for the
  release of Mexican Honey at Cocina Del Barrio Restaurant in Edina on Tues
 day February 10th. Mexican Cousin will also make an appearance\, last year
 's Mexican Honey aged over six months in Anejo tequila barrels! Mexican Ho
 ney and Mexican Cousin will be tapped at 4pm.
CATEGORIES:Beer Release
LOCATION:Cocina Del Barrio\, 5036 France Avenue South\, Edina\, MN\, 55424\
 , United States
GEO:44.911372;-93.32943699999998
X-APPLE-STRUCTURED-LOCATION;VALUE=URI;X-ADDRESS=5036 France Avenue South\, 
 Edina\, MN\, 55424\, United States;X-APPLE-RADIUS=100;X-TITLE=Cocina Del B
 arrio:geo:44.911372,-93.32943699999998
END:VEVENT
END:VCALENDAR