BEGIN:VCALENDAR
VERSION:2.0
PRODID:-//wp-events-plugin.com//7.2.3.1//EN
BEGIN:VEVENT
UID:3175@mnbeer.com
DTSTART:20180518T000000Z
DTEND:20180518T023000Z
DTSTAMP:20180514T062300Z
URL:https://www.mnbeer.com/events/midwest-cma-songwriter-showcase-hosted-b
 y-devon-worley/
SUMMARY:Midwest CMA Songwriter Showcase hosted by Devon Worley
DESCRIPTION:The third show in our monthly Songwriter Showcase Series presen
 ted by the Midwest Country Music Association.\n\nThe evening will be hoste
 d by Devon Worley and will feature performances by Devon Worley\, Roy Hold
 ren\, Matt Graunke\, and Mark Stone. Each artist will take turns performin
 g their original songs and telling the stories behind the music. \n\nBEER 
 SPECIAL: $1 off Amigo Grande Mexican Style Lager\n\nThis is a FREE event a
 nd space is limited\, so come early to get a good spot!
ATTACH;FMTTYPE=image/jpeg:https://www.mnbeer.com/wp-content/uploads/midwes
 t-CMA-square.jpg
CATEGORIES:Music
LOCATION:Big Wood Brewery\, 2222 4th Street\, White Bear Lake\, Minnesota\,
  55110\, United States
GEO:45.0853084;-93.00678719999996
X-APPLE-STRUCTURED-LOCATION;VALUE=URI;X-ADDRESS=2222 4th Street\, White Bea
 r Lake\, Minnesota\, 55110\, United States;X-APPLE-RADIUS=100;X-TITLE=Big 
 Wood Brewery:geo:45.0853084,-93.00678719999996
END:VEVENT
END:VCALENDAR