BEGIN:VCALENDAR
VERSION:2.0
PRODID:-//wp-events-plugin.com//7.2.3.1//EN
BEGIN:VEVENT
UID:1928@mnbeer.com
DTSTART:20160826T233000Z
DTEND:20160827T013000Z
DTSTAMP:20160815T040320Z
URL:https://www.mnbeer.com/events/minnesota-brewers-panel-series-1/
SUMMARY:Minnesota Brewers Panel Series #1
DESCRIPTION:Join us on Friday\, August 26th from 6:30-8:30 for our first ev
 er Minnesota Brewers Panel as we discuss The Craft of Minnesota Beer. Come
  ready to sample beers\, ask questions and meet some brewers from some of 
 the best breweries in Minnesota.\n\nWe are excited to have Caleb Levar - O
 akhold Farmhouse Brewery\, Joel Weyenberg - Lift Bridge Beer Company\, Jam
 es Birnie - Summit Brewing Company and Josh Lemke - Surly Brewing Company 
 participating in the panel.\n\nAll beers sampled\, that can be purchased\,
  will be on sale for the event.\n\nThe event will be moderated by The Minn
 esota Skinny who will be streaming a live podcast of the event!\n\nEvent w
 ill be held at Top Ten Liquors Blaine\n\nRegister online at toptenliquors.
 com/events\, stop in\, or call (763) 754-3231 to reserve your spot!\n\n$10
  to reserve your spot\, you will receive a voucher good towards any of the
  featured products.\n\n*All cancellations must be made 24 hrs in advance f
 or refund.\n\nMust be at least 21 years old to attend
ATTACH;FMTTYPE=image/jpeg:https://www.mnbeer.com/wp-content/uploads/The-Cr
 aft-of-MN-Beer-Growler.jpg
CATEGORIES:Discussion/Panel
LOCATION:Top Ten Liquors Blaine\, 12513 Central Ave NE\, Blaine\, Minnesota
 \, 55434\, United States
GEO:45.19896689999999;-93.23208790000001
X-APPLE-STRUCTURED-LOCATION;VALUE=URI;X-ADDRESS=12513 Central Ave NE\, Blai
 ne\, Minnesota\, 55434\, United States;X-APPLE-RADIUS=100;X-TITLE=Top Ten 
 Liquors Blaine:geo:45.19896689999999,-93.23208790000001
END:VEVENT
END:VCALENDAR