BEGIN:VCALENDAR
VERSION:2.0
PRODID:-//wp-events-plugin.com//7.2.3.1//EN
BEGIN:VEVENT
UID:1056@mnbeer.com
DTSTART:20150307T050000Z
DTEND:20150308T220000Z
DTSTAMP:20150113T215433Z
URL:https://www.mnbeer.com/events/minnesota-monthly-food-wine-experience/
SUMMARY:Minnesota Monthly Food & Wine Experience
DESCRIPTION:$80-105\n\nThis year marks the 21st anniversary of the Food &am
 p\; Wine Experience. Each year the event features tons of great food\, win
 e and though it’s absent from the title\, lots of great beer. This year 
 they’ll have over 200 exhibitors sampling tasty food\, and more wine and
  beer than you can shake a stick at. All event proceeds benefit Minnesota 
 Public Radio.
ATTACH;FMTTYPE=image/jpeg:https://www.mnbeer.com/wp-content/uploads/Screen
 -shot-2015-01-13-at-3.53.26-PM.png
CATEGORIES:Beer Festival
LOCATION:Target Field\, 1 Twins Way\, Minneapolis\, MN\, United States
GEO:44.979955;-93.27979490000001
X-APPLE-STRUCTURED-LOCATION;VALUE=URI;X-ADDRESS=1 Twins Way\, Minneapolis\,
  MN\, United States;X-APPLE-RADIUS=100;X-TITLE=Target Field:geo:44.979955,
 -93.27979490000001
END:VEVENT
END:VCALENDAR