BEGIN:VCALENDAR
VERSION:2.0
PRODID:-//wp-events-plugin.com//7.2.3.1//EN
BEGIN:VEVENT
UID:3479@mnbeer.com
DTSTART:20190522T150000Z
DTEND:20190523T030000Z
DTSTAMP:20190308T185642Z
URL:https://www.mnbeer.com/events/minnesota-monthly-presents-minnesota-bee
 r-month-2019-05-22/
SUMMARY:Minnesota Monthly presents Minnesota Beer Month
DESCRIPTION:Minnesota Monthly presents Minnesota Beer Month! From craft bee
 r to stouts\, ales and ambers\, ticket purchasers can go on a self guided 
 tour of the best breweries\, restaurants and bars and receive 1 beer inclu
 ded with their ticket throughout the month of May! Tickets are for $25 at 
 MinnesotaBeerMonth.com
ATTACH;FMTTYPE=image/jpeg:https://www.mnbeer.com/wp-content/uploads/BeerMO
 NTHLogo-1.jpg
CATEGORIES:Bars/Restaurants
END:VEVENT
END:VCALENDAR