BEGIN:VCALENDAR
VERSION:2.0
PRODID:-//wp-events-plugin.com//7.2.3.1//EN
BEGIN:VEVENT
UID:1916@mnbeer.com
DTSTART:20160728T223000Z
DTEND:20160729T023000Z
DTSTAMP:20160722T171452Z
URL:https://www.mnbeer.com/events/minnesota-monthlys-5th-annual-fine-spiri
 ts-classic/
SUMMARY:Minnesota Monthly's 5th Annual Fine Spirits Classic
DESCRIPTION:Celebrate cocktails and join us for Minnesota Monthly’s 5th A
 nnual Fine Spirits Classic taking place Thursday\, July 28 at Minneapolis 
 Event Center. Sample new brands and spirits from around the world\, enjoy 
 gourmet fare and be entertained from local bartenders while gathering new 
 cocktail recipes. VIP early admission begins at 5:30 p.m. General Admissio
 n begins at 6:30 p.m.\n \nFor tickets\, visit www.finespiritsclassic.com
ATTACH;FMTTYPE=image/jpeg:https://www.mnbeer.com/wp-content/uploads/FSC16_
 300x250.png
CATEGORIES:Tasting
LOCATION:Minneapolis Event Center\, 212 2nd St SE\, Minneapolis\, Minnesota
 \, 55414\, United States
GEO:44.9845856;-93.25406759999998
X-APPLE-STRUCTURED-LOCATION;VALUE=URI;X-ADDRESS=212 2nd St SE\, Minneapolis
 \, Minnesota\, 55414\, United States;X-APPLE-RADIUS=100;X-TITLE=Minneapoli
 s Event Center:geo:44.9845856,-93.25406759999998
END:VEVENT
END:VCALENDAR