BEGIN:VCALENDAR
VERSION:2.0
PRODID:-//wp-events-plugin.com//7.2.3.1//EN
BEGIN:VEVENT
UID:3151@mnbeer.com
DTSTART;VALUE=DATE:20180507
DTEND;VALUE=DATE:20180514
DTSTAMP:20180426T153605Z
URL:https://www.mnbeer.com/events/minnesota-monthlys-minnesota-beer-week-2
 /
SUMMARY:Minnesota Monthly's Minnesota Beer Week
DESCRIPTION:Experience the best brews around with Minnesota Monthly’s fir
 st annual Minnesota Beer Week! From craft beer to stouts\, ales\, and ambe
 rs\, enjoy a complimentary beer at participating locations\, May 7 – 13.
 \n\nWith over 30 participating locations\, your $25 ticket gets you a comp
 limentary beer at each stop! Visit MinnesotaBeerWeek.com for the complete 
 list of participating venues.\n\nPurchase tickets by May 4 to reserve your
  spot.
ATTACH;FMTTYPE=image/jpeg:https://www.mnbeer.com/wp-content/uploads/BeerWe
 ek_Digital_476x476-copy-1.jpg
CATEGORIES:Bars/Restaurants,Breweries,Brewpubs,pub crawl
END:VEVENT
END:VCALENDAR