BEGIN:VCALENDAR
VERSION:2.0
PRODID:-//wp-events-plugin.com//7.2.3.1//EN
BEGIN:VEVENT
UID:722@mnbeer.com
DTSTART:20140816T200000Z
DTEND:20140817T000000Z
DTSTAMP:20140804T190013Z
URL:https://www.mnbeer.com/events/monticello-lions-3rd-annual-brewfest/
SUMMARY:Monticello Lions 3rd Annual Brewfest
DESCRIPTION:The Monticello Lions are putting on their 3rd annual Brewfest o
 n August 16th from 3 – 7pm\, located on the banks of the Mississippi Riv
 er at West Bridge Park in Monticello\, MN. Music provided by Thunderheads 
 (http://www.thunderheadsmusic.com/). This year we are offering VIP tickets
 . VIP ticket includes early entry into Brewfest (by law cannot sample beer
  until start time)\, sampling mug\, Brewfest mug lanyard\, access to speci
 alty kegs only available for sample with VIP wristband\, and $1 off domest
 ic pours from the Lions beer wagon. VIP ticket availability IS LIMITED! Se
 e website for full ticket details. All proceeds from this event go back in
 to the community to help support our local charities. Food will be availab
 le for purchase from a number of local establishments. Shuttle buses will 
 be available from a number of locations within Monticello. For ticket and 
 event information\, go to http://www.montilionsbrewfest.com. VIP Tickets $
 40\, General Admision Tickets $25 in advance\, $35 day of the event. Ticke
 ts are limited to 1\,500 so make sure to get your tickets early. Last year
 s event was a near sell out.
ATTACH;FMTTYPE=image/jpeg:https://www.mnbeer.com/wp-content/uploads/2014Br
 ewfestFlyer700x700a.jpg
CATEGORIES:Beer Festival
LOCATION:West Bridge Park\, 107 West River Street\, Monticello\, MN\, 55362
 \, United States
GEO:45.3067965;-93.79366290000002
X-APPLE-STRUCTURED-LOCATION;VALUE=URI;X-ADDRESS=107 West River Street\, Mon
 ticello\, MN\, 55362\, United States;X-APPLE-RADIUS=100;X-TITLE=West Bridg
 e Park:geo:45.3067965,-93.79366290000002
END:VEVENT
END:VCALENDAR