BEGIN:VCALENDAR
VERSION:2.0
PRODID:-//wp-events-plugin.com//7.2.3.1//EN
BEGIN:VEVENT
UID:1926@mnbeer.com
DTSTART:20160820T200000Z
DTEND:20160821T000000Z
DTSTAMP:20160804T045217Z
URL:https://www.mnbeer.com/events/monticello-lions-5th-annual-craft-beer-f
 estival/
SUMMARY:Monticello Lions 5th Annual Craft Beer Festival
DESCRIPTION:Monticello Lions Brewfest is a craft beer sampling event featur
 ing live music\, local food\, and an amazing outdoor venue right on the Mi
 ssissippi River.  More than 40 brewers fill the park offering well over 10
 0 different beers\, as well as specialty drinks and wine vendors.  This is
  our 5th year and going strong. \n \nCheck out the details and purchase ti
 ckets at http://www.lionsbrewfest.com 
ATTACH;FMTTYPE=image/jpeg:https://www.mnbeer.com/wp-content/uploads/Brewfe
 st_2016_email_500x549.jpg
CATEGORIES:Beer Festival
LOCATION:West Bridge Park\, 107 West River Street\, Monticello\, MN\, 55362
 \, United States
GEO:45.3067965;-93.79366290000002
X-APPLE-STRUCTURED-LOCATION;VALUE=URI;X-ADDRESS=107 West River Street\, Mon
 ticello\, MN\, 55362\, United States;X-APPLE-RADIUS=100;X-TITLE=West Bridg
 e Park:geo:45.3067965,-93.79366290000002
END:VEVENT
END:VCALENDAR