BEGIN:VCALENDAR
VERSION:2.0
PRODID:-//wp-events-plugin.com//7.2.3.1//EN
BEGIN:VEVENT
UID:3259@mnbeer.com
DTSTART:20180823T000000Z
DTEND:20180823T023000Z
DTSTAMP:20180808T182542Z
URL:https://www.mnbeer.com/events/naughty-citizen-dining-series-harvest/
SUMMARY:Naughty Citizen Dining Series: Harvest
DESCRIPTION:Tickets: https://bit.ly/2AVvjYA\n\nAn evening of Greek food pai
 red with local beer: a collaboration from Dual Citizen Brewing Company &am
 p\; The Naughty Greek just over the river in St Paul!\nWe're thrilled to a
 nnounce the third installment in our Naughty Citizen Dining Series: Harves
 t.\nIt's an exclusive tasting menu with a modern Greek sensibility from Ch
 ef Dusty Graham at The Naughty Greek\, celebrating local produce and the i
 nfluence of global flavors in Minnesota. Dual Citizen will be pouring thei
 r fine craft beers alongside\, and head brewer Max Filter will be creating
  something tailored especially for this event &amp\; this food.\n\nThe rol
 e of the Minnesota farm in each of our businesses is a crucial one\, from 
 the tomatoes to the hops\, and August is a particularly lush time of the y
 ear. Harvest is all about paying homage to the fertile soil we have the pr
 ivilege to sow\, and the unique traditions we all bring to the table.\nJoi
 n us for small plates\, cold pours\, and a celebration of what it means to
  be good neighbors! Beer starts flowing at 7:00\, and food served at 7:15.
 \n\nMENU\nstuffed fried olives &amp\; fresno fries with virgin tomato sauc
 e\npaired with\nhillcrest peated stout\n\ngrilled artichokes with lemon ai
 oli\npaired with\nfranklin coffee brown ale\n\nbaby octopus with garlicky 
 potatoes\npaired with\nlaurel ginger wheat\n\npork tenderloin with fennel\
 , beets &amp\; blood orange\npaired with\nsummer pale ale\n\ngrilled peach
 es &amp\; cream\npaired with\nmango farmhouse ale
ATTACH;FMTTYPE=image/jpeg:https://www.mnbeer.com/wp-content/uploads/https-
 cdn.evbuc_.com-images-48022171-256983833157-1-original.jpg
CATEGORIES:Bars/Restaurants,Beer Dinner,Breweries,Foodie
LOCATION:Dual Citizen Taproom\, 725 Raymond Ave\, St. Paul\, Minnesota\, 55
 114\, United States
GEO:44.9631668;-93.1978006
X-APPLE-STRUCTURED-LOCATION;VALUE=URI;X-ADDRESS=725 Raymond Ave\, St. Paul\
 , Minnesota\, 55114\, United States;X-APPLE-RADIUS=100;X-TITLE=Dual Citize
 n Taproom:geo:44.9631668,-93.1978006
END:VEVENT
END:VCALENDAR