BEGIN:VCALENDAR
VERSION:2.0
PRODID:-//wp-events-plugin.com//7.2.3.1//EN
BEGIN:VEVENT
UID:3250@mnbeer.com
DTSTART:20180726T000000Z
DTEND:20180726T023000Z
DTSTAMP:20180720T134005Z
URL:https://www.mnbeer.com/events/naughty-citizen-dining-series-the-dog-da
 ys-of-summer/
SUMMARY:Naughty Citizen Dining Series: The Dog Days of Summer!
DESCRIPTION:An evening of Greek food paired with local beer: a joint ventur
 e from Dual Citizen Brewing Company &amp\; The Naughty Greek.  We're thril
 led to announce the second installment in our Naughty Citizen Dining Serie
 s: the Dog Days of Summer!\n\nThe dog days\, καλοκαιρινές μέ
 ρες\, are sultry and sticky. You can't bear to turn on your stove and t
 he best cure is a cold beer. They also correspond with the rising of Ο Σ
 ειριος\, or the star we know as Sirius: the brightest star in the sk
 y. Homer warned when Sirius shines\, artichokes flower\, and grasshoppers 
 chirp\, it's best to keep men from growing thirsty - we plan to do just th
 at!\nThe Naughty Greek has been cooking up an exclusive tasting menu to be
  paired with Dual Citizen beers\, served on the patio\, transformed into a
 n immersive communal dining experience under the stars.\nJoin us for small
  plates\, cold pours\, and a celebration of what it means to be good neigh
 bors! Beer starts flowing at 7:00\, and food served at 7:15.\n\nTicket pri
 ce includes 18% gratuity. For a vegetarian option\, please email natalie@t
 henaughtygreek.com once your ticket has been purchased.\n\nhttps://www.eve
 ntbrite.com/e/naughty-citizen-dining-series-the-dog-days-of-summer-tickets
 -47596811344?aff=eac2
ATTACH;FMTTYPE=image/jpeg:https://www.mnbeer.com/wp-content/uploads/tastin
 g_17.jpg
CATEGORIES:Bars/Restaurants,Beer Dinner,Breweries,Cask Beer,Foodie,Pairing
LOCATION:Dual Citizen Brewing Co.\, 725 Raymond AVe\, st. Paul\, mn\, 55114
 \, United States
GEO:44.9631668;-93.1978006
X-APPLE-STRUCTURED-LOCATION;VALUE=URI;X-ADDRESS=725 Raymond AVe\, st. Paul\
 , mn\, 55114\, United States;X-APPLE-RADIUS=100;X-TITLE=Dual Citizen Brewi
 ng Co.:geo:44.9631668,-93.1978006
END:VEVENT
END:VCALENDAR