BEGIN:VCALENDAR
VERSION:2.0
PRODID:-//wp-events-plugin.com//7.2.3.1//EN
BEGIN:VEVENT
UID:1841@mnbeer.com
DTSTART:20160707T050000Z
DTEND:20160707T050000Z
DTSTAMP:20160607T214653Z
URL:https://www.mnbeer.com/events/nerd-night-settlers-of-catan-game-night/
SUMMARY:Nerd Night: Settlers of Catan Game Night
DESCRIPTION:Join us for our Settlers of Catan Game Night! Please bring your
  own playing board. The winner of each round gets a FREE pint of beer on t
 he house.
ATTACH;FMTTYPE=image/jpeg:https://www.mnbeer.com/wp-content/uploads/logo-b
 adge-darkbackground-1024x1024-Copy-2.png
CATEGORIES:Breweries
LOCATION:Tin Whiskers Brewing Company\, 125 East 9th Street\, Saint Paul\, 
 MN\, United States
GEO:44.9506615;-93.09361000000001
X-APPLE-STRUCTURED-LOCATION;VALUE=URI;X-ADDRESS=125 East 9th Street\, Saint
  Paul\, MN\, United States;X-APPLE-RADIUS=100;X-TITLE=Tin Whiskers Brewing
  Company:geo:44.9506615,-93.09361000000001
END:VEVENT
END:VCALENDAR